BEGIN:VCALENDAR
VERSION:2.0
PRODID:-//wp-events-plugin.com//7.2.3.1//EN
BEGIN:VEVENT
UID:447@theroc.co
DTSTART;TZID=America/New_York:20251217T170000
DTEND;TZID=America/New_York:20251217T183000
DTSTAMP:20250903T142740Z
URL:https://theroc.co/events/pathways-free-community-dinner-2025-12-17/
SUMMARY:Pathways Free Community Dinner
DESCRIPTION:
ATTACH;FMTTYPE=image/jpeg:https://theroc.co/wp-content/uploads/2025/09/Fre
 e-Community-Dinners-Updated.png
CATEGORIES:Dinner
LOCATION:The Rural Outreach Center\, 730 Olean Road\, East Aurora\, New Yor
 k\, 14052\, United States
X-APPLE-STRUCTURED-LOCATION;VALUE=URI;X-ADDRESS=730 Olean Road\, East Auror
 a\, New York\, 14052\, United States;X-APPLE-RADIUS=100;X-TITLE=The Rural 
 Outreach Center:geo:0,0
END:VEVENT
BEGIN:VTIMEZONE
TZID:America/New_York
X-LIC-LOCATION:America/New_York
BEGIN:STANDARD
DTSTART:20251102T010000
TZOFFSETFROM:-0400
TZOFFSETTO:-0500
TZNAME:EST
END:STANDARD
END:VTIMEZONE
END:VCALENDAR